BEGIN:VCALENDAR
VERSION:2.0
PRODID:-//Hotel on Rivington - ECPv6.7.0//NONSGML v1.0//EN
CALSCALE:GREGORIAN
METHOD:PUBLISH
X-ORIGINAL-URL:https://www.hotelonrivington.com
X-WR-CALDESC:Events for Hotel on Rivington
REFRESH-INTERVAL;VALUE=DURATION:PT1H
X-Robots-Tag:noindex
X-PUBLISHED-TTL:PT1H
BEGIN:VTIMEZONE
TZID:America/New_York
BEGIN:DAYLIGHT
TZOFFSETFROM:-0500
TZOFFSETTO:-0400
TZNAME:EDT
DTSTART:20230312T070000
END:DAYLIGHT
BEGIN:STANDARD
TZOFFSETFROM:-0400
TZOFFSETTO:-0500
TZNAME:EST
DTSTART:20231105T060000
END:STANDARD
END:VTIMEZONE
BEGIN:VEVENT
DTSTART;TZID=America/New_York:20230308T080000
DTEND;TZID=America/New_York:20230308T130000
DTSTAMP:20260419T124237
CREATED:20180122T194122Z
LAST-MODIFIED:20180122T194122Z
UID:3015-1678262400-1678280400@www.hotelonrivington.com
SUMMARY:Vie Meditation Class
DESCRIPTION:Hotel on Rivington has partnered with Vie Meditation to offer on-property mediation classes in our glass-encased penthouse. Classes are available on Wednesday mornings at 8:30am\, 10:30am and noon and can be booked here.
URL:https://www.hotelonrivington.com/event/vie-meditation-class-2023-03-08/
LOCATION:Penthouse on Rivington\, 107 Rivington Street
ATTACH;FMTTYPE=image/jpeg:https://www.hotelonrivington.com/wp-content/uploads/2018/01/vie.jpg
END:VEVENT
BEGIN:VEVENT
DTSTART;TZID=America/New_York:20230301T080000
DTEND;TZID=America/New_York:20230301T130000
DTSTAMP:20260419T124237
CREATED:20180122T194122Z
LAST-MODIFIED:20180122T194122Z
UID:3014-1677657600-1677675600@www.hotelonrivington.com
SUMMARY:Vie Meditation Class
DESCRIPTION:Hotel on Rivington has partnered with Vie Meditation to offer on-property mediation classes in our glass-encased penthouse. Classes are available on Wednesday mornings at 8:30am\, 10:30am and noon and can be booked here.
URL:https://www.hotelonrivington.com/event/vie-meditation-class-2023-03-01/
LOCATION:Penthouse on Rivington\, 107 Rivington Street
ATTACH;FMTTYPE=image/jpeg:https://www.hotelonrivington.com/wp-content/uploads/2018/01/vie.jpg
END:VEVENT
BEGIN:VEVENT
DTSTART;TZID=America/New_York:20230222T080000
DTEND;TZID=America/New_York:20230222T130000
DTSTAMP:20260419T124237
CREATED:20180122T194122Z
LAST-MODIFIED:20180122T194122Z
UID:3013-1677052800-1677070800@www.hotelonrivington.com
SUMMARY:Vie Meditation Class
DESCRIPTION:Hotel on Rivington has partnered with Vie Meditation to offer on-property mediation classes in our glass-encased penthouse. Classes are available on Wednesday mornings at 8:30am\, 10:30am and noon and can be booked here.
URL:https://www.hotelonrivington.com/event/vie-meditation-class-2023-02-22/
LOCATION:Penthouse on Rivington\, 107 Rivington Street
ATTACH;FMTTYPE=image/jpeg:https://www.hotelonrivington.com/wp-content/uploads/2018/01/vie.jpg
END:VEVENT
BEGIN:VEVENT
DTSTART;TZID=America/New_York:20230215T080000
DTEND;TZID=America/New_York:20230215T130000
DTSTAMP:20260419T124237
CREATED:20180122T194122Z
LAST-MODIFIED:20180122T194122Z
UID:3012-1676448000-1676466000@www.hotelonrivington.com
SUMMARY:Vie Meditation Class
DESCRIPTION:Hotel on Rivington has partnered with Vie Meditation to offer on-property mediation classes in our glass-encased penthouse. Classes are available on Wednesday mornings at 8:30am\, 10:30am and noon and can be booked here.
URL:https://www.hotelonrivington.com/event/vie-meditation-class-2023-02-15/
LOCATION:Penthouse on Rivington\, 107 Rivington Street
ATTACH;FMTTYPE=image/jpeg:https://www.hotelonrivington.com/wp-content/uploads/2018/01/vie.jpg
END:VEVENT
BEGIN:VEVENT
DTSTART;TZID=America/New_York:20230208T080000
DTEND;TZID=America/New_York:20230208T130000
DTSTAMP:20260419T124237
CREATED:20180122T194122Z
LAST-MODIFIED:20180122T194122Z
UID:3011-1675843200-1675861200@www.hotelonrivington.com
SUMMARY:Vie Meditation Class
DESCRIPTION:Hotel on Rivington has partnered with Vie Meditation to offer on-property mediation classes in our glass-encased penthouse. Classes are available on Wednesday mornings at 8:30am\, 10:30am and noon and can be booked here.
URL:https://www.hotelonrivington.com/event/vie-meditation-class-2023-02-08/
LOCATION:Penthouse on Rivington\, 107 Rivington Street
ATTACH;FMTTYPE=image/jpeg:https://www.hotelonrivington.com/wp-content/uploads/2018/01/vie.jpg
END:VEVENT
BEGIN:VEVENT
DTSTART;TZID=America/New_York:20230201T080000
DTEND;TZID=America/New_York:20230201T130000
DTSTAMP:20260419T124237
CREATED:20180122T194122Z
LAST-MODIFIED:20180122T194122Z
UID:3010-1675238400-1675256400@www.hotelonrivington.com
SUMMARY:Vie Meditation Class
DESCRIPTION:Hotel on Rivington has partnered with Vie Meditation to offer on-property mediation classes in our glass-encased penthouse. Classes are available on Wednesday mornings at 8:30am\, 10:30am and noon and can be booked here.
URL:https://www.hotelonrivington.com/event/vie-meditation-class-2023-02-01/
LOCATION:Penthouse on Rivington\, 107 Rivington Street
ATTACH;FMTTYPE=image/jpeg:https://www.hotelonrivington.com/wp-content/uploads/2018/01/vie.jpg
END:VEVENT
BEGIN:VEVENT
DTSTART;TZID=America/New_York:20230125T080000
DTEND;TZID=America/New_York:20230125T130000
DTSTAMP:20260419T124237
CREATED:20180122T194122Z
LAST-MODIFIED:20180122T194122Z
UID:3009-1674633600-1674651600@www.hotelonrivington.com
SUMMARY:Vie Meditation Class
DESCRIPTION:Hotel on Rivington has partnered with Vie Meditation to offer on-property mediation classes in our glass-encased penthouse. Classes are available on Wednesday mornings at 8:30am\, 10:30am and noon and can be booked here.
URL:https://www.hotelonrivington.com/event/vie-meditation-class-2023-01-25/
LOCATION:Penthouse on Rivington\, 107 Rivington Street
ATTACH;FMTTYPE=image/jpeg:https://www.hotelonrivington.com/wp-content/uploads/2018/01/vie.jpg
END:VEVENT
BEGIN:VEVENT
DTSTART;TZID=America/New_York:20230118T080000
DTEND;TZID=America/New_York:20230118T130000
DTSTAMP:20260419T124237
CREATED:20180122T194122Z
LAST-MODIFIED:20180122T194122Z
UID:3008-1674028800-1674046800@www.hotelonrivington.com
SUMMARY:Vie Meditation Class
DESCRIPTION:Hotel on Rivington has partnered with Vie Meditation to offer on-property mediation classes in our glass-encased penthouse. Classes are available on Wednesday mornings at 8:30am\, 10:30am and noon and can be booked here.
URL:https://www.hotelonrivington.com/event/vie-meditation-class-2023-01-18/
LOCATION:Penthouse on Rivington\, 107 Rivington Street
ATTACH;FMTTYPE=image/jpeg:https://www.hotelonrivington.com/wp-content/uploads/2018/01/vie.jpg
END:VEVENT
BEGIN:VEVENT
DTSTART;TZID=America/New_York:20230111T080000
DTEND;TZID=America/New_York:20230111T130000
DTSTAMP:20260419T124237
CREATED:20180122T194122Z
LAST-MODIFIED:20180122T194122Z
UID:3007-1673424000-1673442000@www.hotelonrivington.com
SUMMARY:Vie Meditation Class
DESCRIPTION:Hotel on Rivington has partnered with Vie Meditation to offer on-property mediation classes in our glass-encased penthouse. Classes are available on Wednesday mornings at 8:30am\, 10:30am and noon and can be booked here.
URL:https://www.hotelonrivington.com/event/vie-meditation-class-2023-01-11/
LOCATION:Penthouse on Rivington\, 107 Rivington Street
ATTACH;FMTTYPE=image/jpeg:https://www.hotelonrivington.com/wp-content/uploads/2018/01/vie.jpg
END:VEVENT
BEGIN:VEVENT
DTSTART;TZID=America/New_York:20230104T080000
DTEND;TZID=America/New_York:20230104T130000
DTSTAMP:20260419T124237
CREATED:20180122T194122Z
LAST-MODIFIED:20180122T194122Z
UID:3006-1672819200-1672837200@www.hotelonrivington.com
SUMMARY:Vie Meditation Class
DESCRIPTION:Hotel on Rivington has partnered with Vie Meditation to offer on-property mediation classes in our glass-encased penthouse. Classes are available on Wednesday mornings at 8:30am\, 10:30am and noon and can be booked here.
URL:https://www.hotelonrivington.com/event/vie-meditation-class-2023-01-04/
LOCATION:Penthouse on Rivington\, 107 Rivington Street
ATTACH;FMTTYPE=image/jpeg:https://www.hotelonrivington.com/wp-content/uploads/2018/01/vie.jpg
END:VEVENT
END:VCALENDAR